BEGIN:VCALENDAR
VERSION:2.0
PRODID:-//Eventin//Event Calendar//EN
CALSCALE:GREGORIAN
METHOD:PUBLISH
BEGIN:VEVENT
UID:46b3c52a7f59e7d162b6358a01839cc2@ccch.hu
SUMMARY:Canada Day
DESCRIPTION:
LOCATION:Pasarét bisztró
DTSTAMP:20260425T162951Z
DTSTART:20260702T150000Z
DTEND:20260702T190000Z
END:VEVENT
END:VCALENDAR
