BEGIN:VCALENDAR
VERSION:2.0
PRODID:-//Eventin//Event Calendar//EN
CALSCALE:GREGORIAN
METHOD:PUBLISH
BEGIN:VEVENT
UID:395fd0dccffcb68a119d49120e56d331@ccch.hu
SUMMARY:Maple Padel Mixer
DESCRIPTION:Join us for a relaxed afternoon of padel\, networking\, and goo
 d company by the Danube.\nDate : Friday\, 15th May\, 2026 15:00h-19:00h\nVe
 nue : Padel Garden \, Római part \nRegistration: Maple Padel Mixer - Pade
 l Together - Google Űrlapok\nWhether you’re an experienced player or try
 ing padel for the first time\, this event is all about having fun and meeti
 ng new people.\nThe participation fee includes up to 4 hours of play\, rack
 ets\, professional coaching\, refreshments\, healthy snacks\, and great net
 working opportunities.\nCome for the sport\, stay for the conversations!
LOCATION:Padel Garden
DTSTAMP:20260425T144059Z
DTSTART:20260515T130000Z
DTEND:20260515T170000Z
END:VEVENT
END:VCALENDAR
