BEGIN:VCALENDAR
VERSION:2.0
PRODID:-//Eventin//Event Calendar//EN
CALSCALE:GREGORIAN
METHOD:PUBLISH
BEGIN:VEVENT
UID:1c56f91f695ae805ebb0530b87f2d371@ccch.hu
SUMMARY:CANADA - EU  SAFE CONFERENCE
DESCRIPTION:Join us for Canada-EU SAFE conference\, a high-level business a
 nd policy event organised by the Canadian Chamber of Commerce in Hungary 
 and supported by the Government of Canada.\nFurther information and ticket
 s:\nHOME | Canada - EU SAFE Conference Budapest\n​The two-day event will 
 bring together European and Canadian policymakers\, defence industry lead
 ers and strategic partners to explore the industrial and strategic impli
 cations of the EU SAFE framework\, with a particular focus on defence manuf
 acturing capacity\, supply chain resilience and transatlantic cooperation.\
 n​SAFE is designed for companies active in or considering entry into the 
 European defence and security market\, as well as institutional stakeholder
 s seeking insight into EU defence initiatives and partnership opportunities
 . The conference provides a platform for knowledge sharing\, strategic dial
 ogue\, and high-level networking at a critical moment for Europe’s securi
 ty and industrial readiness.
LOCATION:Bálna Budapest
DTSTAMP:20260425T144228Z
DTSTART:20260512T063000Z
DTEND:20260513T130000Z
END:VEVENT
END:VCALENDAR
