BEGIN:VCALENDAR
VERSION:2.0
PRODID:-//Eventin//Event Calendar//EN
CALSCALE:GREGORIAN
METHOD:PUBLISH
BEGIN:VEVENT
UID:8df053248945019dca73a53ccd8b817a@ccch.hu
SUMMARY:Business Breakfast
DESCRIPTION:
LOCATION:TBD
DTSTAMP:20260425T162910Z
DTSTART:20260611T063000Z
DTEND:20260611T093000Z
END:VEVENT
END:VCALENDAR
