BEGIN:VCALENDAR
VERSION:2.0
PRODID:-//Eventin//Event Calendar//EN
CALSCALE:GREGORIAN
METHOD:PUBLISH
BEGIN:VEVENT
UID:339f21194d58593d9eb94ba9613b78fb@ccch.hu
SUMMARY:Christmas Reception
DESCRIPTION:
LOCATION:TBD
DTSTAMP:20260425T163719Z
DTSTART:20261208T170000Z
DTEND:20261208T200000Z
END:VEVENT
END:VCALENDAR
