BEGIN:VCALENDAR
VERSION:2.0
PRODID:-//Eventin//Event Calendar//EN
CALSCALE:GREGORIAN
METHOD:PUBLISH
BEGIN:VEVENT
UID:318c6814033a509ce8b3c825c5ccdbc1@ccch.hu
SUMMARY:Canadian Lobster Dinner
DESCRIPTION:Come join us for an unforgettable evening of decadence and cele
 bration at the Canadian Chamber’s 32nd Annual Lobster Night!Indulge in t
 he freshest full-sized lobsters straight from Nova Scotia\, Canada\, and sa
 vor & explore delicious treats\, unlimited drinks and offerings from our ge
 nerous sponsors. Don’t miss out on this vibrant and exciting event that 
 brings together the Hungarian and Expat business community in Hungary for a
  night of unity and fun. RSVP now to secure yout seat at the best know busi
 ness community celebrations in Budapest!\nMore information will follow.
LOCATION:InterContinental Budapest
DTSTAMP:20260425T162556Z
DTSTART:20261114T170000Z
DTEND:20261114T223000Z
END:VEVENT
END:VCALENDAR
